BEGIN:VCALENDAR
VERSION:2.0
PRODID:-//ChamberMaster//Event Calendar 2.0//EN
METHOD:PUBLISH
X-PUBLISHED-TTL:P3D
REFRESH-INTERVAL:P3D
CALSCALE:GREGORIAN
BEGIN:VEVENT
DTSTART:20260613T020000Z
DTEND:20260613T043000Z
X-MICROSOFT-CDO-ALLDAYEVENT:FALSE
SUMMARY:Castanea Sicilian Cafe - Coffee & Espresso Class
DESCRIPTION:Experience a unique Espresso & Coffee Class in Los Angeles\, Venice Beach and dive into the world of specialty coffee. In this hands-on workshop\, you'll learn how to pull the perfect espresso\, steam milk correctly\, and prepare classic coffee drinks like cappuccino and latte just like a professional barista. ?\n\nOur Barista Coffee Class in Venice Beach\, Los Angeles teaches you the fundamentals of espresso extraction\, how to use an espresso machine\, and basic latte art techniques. Whether you're a beginner or a coffee lover\, this class will help you improve your coffee skills and knowledge.\n\nAt the end of the Coffee & Espresso Class\, you'll receive a certificate of completion confirming that you've learned the basics of barista-style coffee preparation. A perfect experience for anyone who loves coffee and wants to enjoy a unique activity in Venice Beach. ???
X-ALT-DESC;FMTTYPE=text/html:<p>Experience a unique <strong>Espresso &amp\; Coffee Class in Los Angeles\, Venice Beach</strong> and dive into the world of specialty coffee. In this hands-on workshop\, you&rsquo\;ll learn how to pull the perfect espresso\, steam milk correctly\, and prepare classic coffee drinks like cappuccino and latte just like a professional barista. ?</p>\n\n<p>Our <strong>Barista Coffee Class in Venice Beach\, Los Angeles</strong> teaches you the fundamentals of espresso extraction\, how to use an espresso machine\, and basic latte art techniques. Whether you&rsquo\;re a beginner or a coffee lover\, this class will help you improve your coffee skills and knowledge.</p>\n\n<p>At the end of the <strong>Coffee &amp\; Espresso Class</strong>\, you&rsquo\;ll receive a <strong>certificate of completion</strong> confirming that you&rsquo\;ve learned the basics of barista-style coffee preparation. A perfect experience for anyone who loves coffee and wants to enjoy a unique activity in Venice Beach. ???</p>\n
LOCATION:Castanea Sicilian Cafe 1307 Ocean Front Walk Los Angeles\, CA 90291 United States
UID:e.108.71346
SEQUENCE:3
DTSTAMP:20260420T133959Z
URL:https://business.venicechamber.net/events/details/castanea-sicilian-cafe-coffee-espresso-class-06-12-2026-71346
END:VEVENT

END:VCALENDAR
